BEGIN:VCALENDAR
VERSION:2.0
PRODID:-//Grupo Develop - ECPv6.0.4//NONSGML v1.0//EN
CALSCALE:GREGORIAN
METHOD:PUBLISH
X-ORIGINAL-URL:https://grupodevelop.com
X-WR-CALDESC:Eventos para Grupo Develop
REFRESH-INTERVAL;VALUE=DURATION:PT1H
X-Robots-Tag:noindex
X-PUBLISHED-TTL:PT1H
BEGIN:VTIMEZONE
TZID:America/Port_of_Spain
BEGIN:STANDARD
TZOFFSETFROM:-0400
TZOFFSETTO:-0400
TZNAME:AST
DTSTART:20250101T000000
END:STANDARD
TZID:UTC
BEGIN:STANDARD
TZOFFSETFROM:+0000
TZOFFSETTO:+0000
TZNAME:UTC
DTSTART:20250101T000000
END:STANDARD
END:VTIMEZONE
BEGIN:VEVENT
DTSTART;TZID=America/Port_of_Spain:20250901T000000
DTEND;TZID=America/Port_of_Spain:20260531T235900
DTSTAMP:20260420T034917
CREATED:20250909T084907Z
LAST-MODIFIED:20250909T084907Z
UID:4653-1756684800-1780271940@grupodevelop.com
SUMMARY:Programa Gestiona-T: Asesoramiento para implantar un certificado de calidad
DESCRIPTION:La Fundación Grupo Develop\, con financiación del Plan Nacional sobre Drogas\, lanza una nueva edición del Programa Gestiona-t (como viene haciendo desde 2013)\, dirigido a 27 ONG y entidades sin ánimo de lucro que trabajan en el ámbito de las adicciones (con o sin sustancias)\, en el tratamiento y/o prevención y otras patologías asociadas (Salud Mental\, VIH-SIDA\, exclusión social\, etc.). Esta es la convocatoria para el periodo de ejecución 2025-2026. \nEn la presente edición\, se incorporan como principal novedad tres seminarios prácticos\, donde se trabajarán aspectos abordados en los talleres de forma más teórica \nDuración del programa\nLa duración del programa es desde el 01 de septiembre de 2025 al 31 de mayo de 2026. \nPresentación de solicitudes\nDesde el 01 de septiembre al 25 de septiembre de 2025 (ambos inclusive). \nDescarga aquí las Bases del Programa \nPara participar es necesario cumplimentar el formulario de solicitud de participación\, que se encuentra en el link que figura a continuación\, en el Código QR y en la página Web de la Fundación Grupo Develop: grupodevelop.com \nPara ampliar información o aclarar tus dudas sobre esta convocatoria\, envía un correo a gestiona-t@grupodevelop.com o puedes ponerte en contacto con nosotros llamando a 653 941 439 (José Luis Antolín). \n \n 
URL:https://grupodevelop.com/eventos/programa-gestiona-t-asesoramiento-para-implantar-un-certificado-de-calidad-2/
LOCATION:Teleformación\, España
CATEGORIES:Formación,Plan de Calidad
ATTACH;FMTTYPE=image/png:https://grupodevelop.com/wp-content/uploads/2025/09/GESTIONAT-2526_INSCRIPCION-PRG.png
END:VEVENT
BEGIN:VEVENT
DTSTART;VALUE=DATE:20251210
DTEND;VALUE=DATE:20251212
DTSTAMP:20260420T034917
CREATED:20251128T114520Z
LAST-MODIFIED:20251128T114520Z
UID:4695-1765324800-1765497599@grupodevelop.com
SUMMARY:Seminario 2 Gestiona-T 25-26: Pautas para cumplimentar un Plan de Mejora
DESCRIPTION:Seminario 2 Gestiona-T 25-26: Pautas para completar un Plan de Mejora. \nEste seminario tiene como objetivo dotar a las organizaciones participantes de conocimientos\, habilidades y herramientas suficientes para ejecutar con éxito un ‘Plan de Mejora’. \nEl seminario está dirigido a personas trabajadoras y/o voluntarias de Organizaciones Sin Ánimo de Lucro que trabajen en Adicciones con o sin sustancias\, en prevención y asistencia y a Organizaciones que aborden problemas y/o patologías asociadas: salud mental; VIH-SIDA; reclusos y exreclusos; etc. \n\nModalidad:\nEl seminario se imparte en aula virtual. Se facilitará un enlace a la Plataforma Teams para la conexión a todas las persona participantes. \nFechas de Impartición:\n\nGrupo A: 10 (miércoles)  de diciembre de 2025. \nGrupo B: 11 (jueves) de diciembre de 2025. \nHorario: \nDe 10:00h a 12:00h los dos días y los dos grupos (horario peninsular). \nPara ampliar más información: \nEmail: j.antolin@grupodevelop.com (José Luis Antolín) \nTeléfono: 653 941 439 \nPlazo máximo de Inscripción:  \nDesde el lunes 24 de noviembre hasta el martes 09 de diciembre\, ambos inclusive. \nFormaliza tu inscripción Aquí
URL:https://grupodevelop.com/eventos/seminario-2-gestiona-t-25-26-pautas-para-cumplimentar-plan-de-mejora/
LOCATION:Aula Virtual
CATEGORIES:Formación
ATTACH;FMTTYPE=image/png:https://grupodevelop.com/wp-content/uploads/2025/11/GT2526_S2.png
END:VEVENT
BEGIN:VEVENT
DTSTART;TZID=UTC:20251210T100000
DTEND;TZID=UTC:20251211T130000
DTSTAMP:20260420T034917
CREATED:20251104T204633Z
LAST-MODIFIED:20251104T210340Z
UID:4681-1765360800-1765458000@grupodevelop.com
SUMMARY:Formación en Planificación estratégica para organizar un servicio social de calidad
DESCRIPTION:Formación en Planificación estratégica para organizar un servicio social de calidad. \nEste curso tiene como objetivo sensibilizar a las personas participantes sobre la necesidad de planificar la estrategia de la Organización\, obtener los conocimientos teóricos básicos sobre la planificación estratégica\, conocer y aprender la metodología para iniciar el proceso de planificación estratégica\, conocer herramientas prácticas para elaborar el plan estratégico. \n  \nDescarga el programa del curso.\n\n\nModalidad:\nLa formación se imparte en modalidad online a través de Microsoft Teams. \nFecha de Impartición:\n\n10 de diciembre de 2025 y  11  de diciembre de 2025. \nHorario: \nDe 10:00 a 13h los dos días (horario peninsular). \nPrecio: \n• El curso se puede bonificar al 100% a través de los créditos formativos de Fundae. \n•78\,00 € por persona. \n*Existe la posibilidad de realizar las gestiones administrativas en el portal de Fundae con vistas a la bonificación del curso\, en cuyo caso\, el precio se incrementa en 7\,80 € por persona\, siendo el total de 85\,80 € por persona. \nPara ampliar más información: \nEmail: \nj.antolin@grupodevelop.com (José Luis Antolín) \nn.rodriguez@grupodevelop.com (Nuria Rodríguez). \nTeléfono: 653 941 439 / 639201564. \nPlazo de Inscripción:  \n04 de diciembre de 2025. \nFormaliza tu inscripción Aquí\n 
URL:https://grupodevelop.com/eventos/formacion-en-planificacion-estrategica/
LOCATION:Aula Virtual
CATEGORIES:Formación
ATTACH;FMTTYPE=image/png:https://grupodevelop.com/wp-content/uploads/2025/11/F01-PLANIFICACION-ESTRATEGICA.png
END:VEVENT
BEGIN:VEVENT
DTSTART;TZID=UTC:20251212T100000
DTEND;TZID=UTC:20251215T130000
DTSTAMP:20260420T034917
CREATED:20251104T204023Z
LAST-MODIFIED:20251104T210233Z
UID:4678-1765533600-1765803600@grupodevelop.com
SUMMARY:Formación en Gestión por procesos\, indicadores y cuadro de mando.
DESCRIPTION:Formación en Gestión por procesos\, indicadores y cuadro de mando. \nEste curso tiene como objetivo dotar a las ONG participantes de conocimientos\, habilidades y herramientas suficientes para definir los documentos básicos para desarrollar su sistema de gestión por procesos facilitar las indicaciones necesarias para poder comenzar a cumplimentar los documentos del sistema de gestión por procesos: mapa de procesos\, fichas de procesos\, formatos\, etc. \n  \nDescarga el programa del curso.\n\n\nModalidad:\nLa formación se imparte en modalidad online a través de Microsoft Teams. \nFecha de Impartición:\n\n12 de diciembre de 2025 y  15 de diciembre de 2025. \nHorario: \nDe 10:00 a 13h los dos días (horario peninsular). \nPrecio: \n• El curso se puede bonificar al 100% a través de los créditos formativos de Fundae. \n•78\,00 € por persona. \n*Existe la posibilidad de realizar las gestiones administrativas en el portal de Fundae con vistas a la bonificación del curso\, en cuyo caso\, el precio se incrementa en 7\,80 € por persona\, siendo el total de 85\,80 € por persona. \nPara ampliar más información: \nEmail: \nj.antolin@grupodevelop.com (José Luis Antolín) \nn.rodriguez@grupodevelop.com (Nuria Rodríguez). \nTeléfono: 653 941 439 / 639201564. \nPlazo de Inscripción:  \n04 de diciembre de 2025. \nFormaliza tu inscripción Aquí\n 
URL:https://grupodevelop.com/eventos/formacion-en-gestion-por-procesos-indicadores-y-cuadro-de-mando/
LOCATION:Aula Virtual
CATEGORIES:Formación
ATTACH;FMTTYPE=image/png:https://grupodevelop.com/wp-content/uploads/2025/11/F02-GESTION-POR-PROCESOS-INDICADORES-Y-CM.png
END:VEVENT
BEGIN:VEVENT
DTSTART;TZID=UTC:20251216T100000
DTEND;TZID=UTC:20251217T130000
DTSTAMP:20260420T034917
CREATED:20251104T203633Z
LAST-MODIFIED:20251104T210151Z
UID:4674-1765879200-1765976400@grupodevelop.com
SUMMARY:Formación en Formulación\, gestión\, justificación y evaluación de proyectos.
DESCRIPTION:Formación en Formulación\, Gestión\, Justificación y evaluación de proyectos. \nEste curso tiene como objetivo dotar de habilidades para formular un proyecto\, ejecutarlo\, evaluarlo y justificarlo adecuadamente\, a partir de una convocatoria de subvenciones. \nDescarga el programa del curso.\n\n\nModalidad:\nLa formación se imparte en modalidad online a través de Microsoft Teams. \nFecha de Impartición:\n\n16 de diciembre de 2025 y  17  de diciembre de 2025. \nHorario: \nDe 10:00 a 13h los dos días (horario peninsular). \nPrecio: \n• El curso se puede bonificar al 100% a través de los créditos formativos de Fundae. \n•78\,00 € por persona. \n*Existe la posibilidad de realizar las gestiones administrativas en el portal de Fundae con vistas a la bonificación del curso\, en cuyo caso\, el precio se incrementa en 7\,80 € por persona\, siendo el total de 85\,80 € por persona. \nPara ampliar más información: \nEmail: \nj.antolin@grupodevelop.com (José Luis Antolín) \nn.rodriguez@grupodevelop.com (Nuria Rodríguez). \nTeléfono: 653 941 439 / 639201564. \nPlazo de Inscripción:  \n04 de diciembre de 2025. \nFormaliza tu inscripción Aquí\n 
URL:https://grupodevelop.com/eventos/formacion-en-formulacion-gestion-justificacion-y-evaluacion-de-proyectos/
LOCATION:Aula Virtual
CATEGORIES:Formación
ATTACH;FMTTYPE=image/png:https://grupodevelop.com/wp-content/uploads/2025/11/F03-FORMULACION-GESTION-JUSTI-EVA-PRY.png
END:VEVENT
BEGIN:VEVENT
DTSTART;TZID=UTC:20251218T100000
DTEND;TZID=UTC:20251219T130000
DTSTAMP:20260420T034917
CREATED:20251104T205242Z
LAST-MODIFIED:20251104T210102Z
UID:4686-1766052000-1766149200@grupodevelop.com
SUMMARY:Formación en Transformación Digital de la organización\, aproximación a la suit 365 de Microsoft.
DESCRIPTION:Formación en Transformación digital de la organización: Aproximación a la Suit365 Microsoft. \nEste curso tiene como objetivo dotar de conocimientos suficientes para implantar la Suit365 de Microsoft en una organización. \nDescarga el programa del curso.\n\n\nModalidad:\nLa formación se imparte en modalidad online a través de Microsoft Teams. \nFecha de Impartición:\n\n18 de diciembre de 2025 y  19  de diciembre de 2025. \nHorario: \nDe 10:00 a 13h los dos días (horario peninsular). \nPrecio: \n• El curso se puede bonificar al 100% a través de los créditos formativos de Fundae. \n•78\,00 € por persona. \n*Existe la posibilidad de realizar las gestiones administrativas en el portal de Fundae con vistas a la bonificación del curso\, en cuyo caso\, el precio se incrementa en 7\,80 € por persona\, siendo el total de 85\,80 € por persona. \nPara ampliar más información: \nEmail: \nj.antolin@grupodevelop.com (José Luis Antolín) \nn.rodriguez@grupodevelop.com (Nuria Rodríguez). \nTeléfono: 653 941 439 / 639201564. \nPlazo de Inscripción:  \n04 de diciembre de 2025. \nFormaliza tu inscripción Aquí\n 
URL:https://grupodevelop.com/eventos/formacion-en-transformacion-digital-suit365-microsoft/
LOCATION:Aula Virtual
CATEGORIES:Formación
ATTACH;FMTTYPE=image/png:https://grupodevelop.com/wp-content/uploads/2025/11/F04-TRANSFORMACION-DIGITAL.png
END:VEVENT
END:VCALENDAR