BEGIN:VCALENDAR
VERSION:2.0
PRODID:-//Grupo Develop - ECPv6.0.4//NONSGML v1.0//EN
CALSCALE:GREGORIAN
METHOD:PUBLISH
X-ORIGINAL-URL:https://grupodevelop.com
X-WR-CALDESC:Eventos para Grupo Develop
REFRESH-INTERVAL;VALUE=DURATION:PT1H
X-Robots-Tag:noindex
X-PUBLISHED-TTL:PT1H
BEGIN:VTIMEZONE
TZID:UTC
BEGIN:STANDARD
TZOFFSETFROM:+0000
TZOFFSETTO:+0000
TZNAME:UTC
DTSTART:20230101T000000
END:STANDARD
END:VTIMEZONE
BEGIN:VEVENT
DTSTART;TZID=UTC:20231204T090000
DTEND;TZID=UTC:20231204T150000
DTSTAMP:20260421T224047
CREATED:20231110T122123Z
LAST-MODIFIED:20231110T122123Z
UID:4388-1701680400-1701702000@grupodevelop.com
SUMMARY:Formación Gestión de Indicadores y Cuadro de Mando
DESCRIPTION:Formación en Gestión  de Indicadores y Cuadro de Mando. \nEste curso tiene como objetivo conocer los conceptos técnicos relacionados con la gestión de indicadores y el cuadro de mando y adquirir habilidades para formular y gestionar los indicadores y para analizar e interpretar los resultados de los mismos. \nDescarga el programa del curso.\n\n\nModalidad:\nLa formación se imparte en modalidad presencial en la siguiente dirección: C/Nicolás Salmerón\, 32\, Bajo\, 47004\, Valladolid. (Oficina de la Fundación FECLEM) \nFecha de Impartición:\n\nLunes\, 04 de diciembre de 2023. \nHorario: \nDe 09:00 a 15:00h (horario peninsular). \nPrecio: \n• El curso se puede bonificar al 100% a través de los créditos formativos de Fundae. \n•78\,00 € por persona. \n*Existe la posibilidad de realizar las gestiones administrativas en el portal de Fundae con vistas a la bonificación del curso\, en cuyo caso\, el precio se incrementa en 7\,80 € por persona\, siendo el total de 85\,80 € por persona. \nPara ampliar más información: \nEmail: \nj.antolin@grupodevelop.com (José Luis Antolín) \nn.rodriguez@grupodevelop.com (Nuria Rodríguez). \nTeléfono: 653 941 439 / 639201564. \nPlazo de Inscripción:  \nMiércoles\, 29 de noviembre de 2023. \nFormaliza tu inscripción Aquí\n 
URL:https://grupodevelop.com/eventos/formacion-indicadores/
LOCATION:C/Nicolás Salmerón\, 32\, bajo\, Valladolid\, C/Nicolás Salmerón\, 32\, bajo\, Valladolid\, Valladolid\, 47004\, España
CATEGORIES:Formación
ATTACH;FMTTYPE=image/png:https://grupodevelop.com/wp-content/uploads/2023/11/RRSS_formacion_indicadores-y-cuadro-de-mando.png
END:VEVENT
BEGIN:VEVENT
DTSTART;TZID=UTC:20231213T100000
DTEND;TZID=UTC:20231214T134500
DTSTAMP:20260421T224047
CREATED:20231120T174521Z
LAST-MODIFIED:20231120T174521Z
UID:4397-1702461600-1702561500@grupodevelop.com
SUMMARY:Formación en Formulación\, gestión\, justificación y evaluación de proyectos.
DESCRIPTION:Formación en Formulación\, Gestión\, Justificación y evaluación de proyectos. \nEste curso tiene como objetivo dotar de habilidades para formular un proyecto\, ejecutarlo\, evaluarlo y justificarlo adecuadamente\, a partir de una convocatoria de subvenciones. \nDescarga el programa del curso.\n\n\nModalidad:\nLa formación se imparte en modalidad online a través de Microsoft Teams. \nFecha de Impartición:\n\nMiércoles\, 13 de diciembre de 2023 y viernes\, 14  de diciembre de 2023. \nHorario: \nDe 10:00 a 11:30 y de 11:45 a 13:15 los dos días (horario peninsular). \nPrecio: \n• El curso se puede bonificar al 100% a través de los créditos formativos de Fundae. \n•78\,00 € por persona. \n*Existe la posibilidad de realizar las gestiones administrativas en el portal de Fundae con vistas a la bonificación del curso\, en cuyo caso\, el precio se incrementa en 7\,80 € por persona\, siendo el total de 85\,80 € por persona. \nPara ampliar más información: \nEmail: \nj.antolin@grupodevelop.com (José Luis Antolín) \nn.rodriguez@grupodevelop.com (Nuria Rodríguez). \nTeléfono: 653 941 439 / 639201564. \nPlazo de Inscripción:  \nJueves\, 07 de diciembre de 2023. \nFormaliza tu inscripción Aquí\n 
URL:https://grupodevelop.com/eventos/formacion-gestion-de-proyectos/
LOCATION:Aula Virtual
CATEGORIES:Formación
ATTACH;FMTTYPE=image/png:https://grupodevelop.com/wp-content/uploads/2023/11/promocion-curso-formualcion-de-proyectos.png
END:VEVENT
END:VCALENDAR