BEGIN:VCALENDAR
VERSION:2.0
PRODID:-//Grupo Develop - ECPv6.0.4//NONSGML v1.0//EN
CALSCALE:GREGORIAN
METHOD:PUBLISH
X-WR-CALNAME:Grupo Develop
X-ORIGINAL-URL:https://grupodevelop.com
X-WR-CALDESC:Eventos para Grupo Develop
REFRESH-INTERVAL;VALUE=DURATION:PT1H
X-Robots-Tag:noindex
X-PUBLISHED-TTL:PT1H
BEGIN:VTIMEZONE
TZID:America/Port_of_Spain
BEGIN:STANDARD
TZOFFSETFROM:-0400
TZOFFSETTO:-0400
TZNAME:AST
DTSTART:20220101T000000
END:STANDARD
END:VTIMEZONE
BEGIN:VEVENT
DTSTART;TZID=America/Port_of_Spain:20220913T100000
DTEND;TZID=America/Port_of_Spain:20220913T150000
DTSTAMP:20260424T165034
CREATED:20220720T105321Z
LAST-MODIFIED:20220720T112940Z
UID:4023-1663063200-1663081200@grupodevelop.com
SUMMARY:Homologación de evaluadores/as del certificado de reconocimiento a la gestión y al compromiso social
DESCRIPTION:Este curso tiene como objetivo fundamental capacitar a las personas asistentes para ser evaluadoras del Certificado de Calidad Reconocimiento a la Gestión y al Compromiso Social en su versión 3\, aprobada en el mes de enero de 2022.\nPersonas destinatarias:\n\nPertenecer a una Organización que se encuentre certificada en un nivel igual o superior a 3 Estrellas. Para personas interesadas que pertenezcan a Organizaciones certificadas con 2 Estrellas se valorará CV personal y motivación.\nHaber recibido formación específica en mejora continua y gestión por procesos.\nHaber participado activamente en la implantación del Esquema de Estrellas en su Organización.\nTener disponibilidad para hacer un mínimo de dos evaluaciones presenciales al año.\nPlazas limitadas.\n\nTemario del curso:\nEn el programa adjunto figura toda la información relacionada con objetivos\, contenidos del curso y requisitos tanto para participar\, como para obtener la homologación como evaluador/a. \n\n\n\nEL CERTIFICADO DE CALIDAD RECONOCIMIENTO A LA GESTIÓN Y AL COMPROMISO SOCIAL DE LA FGD.\nEL PROCESO DE EVALUACIÓN EXTERNA PARA LA OBTENCIÓN O RENOVACIÓN DEL CERTIFICADO.\nEL PROCESO DE EVALUACIÓN DE SEGUIMIENTO.\nLOS EVALUADORES/AS DE ESTRELLAS.\nCONCLUSIONES\nEJERCICIOS PRÁCTICOS\n\nConsulta el temario completo en el Programa en PDF. \nFecha tope de inscripción:\n\n\n\nViernes\, 9 de septiembre de 2022. \nEl curso se imparte en modalidad presencial \n\n\n\nFecha de impartición y horario: \n\n\n\nMartes\, 13 de septiembre. De 10:00 a 15:00 (5 horas) \n\n\n\nLugar curso:\n\n\n\nFEBHI. c/. Pechuán 14\, local 6. 28002 Madrid. \nTransporte público cercano:  \n\nMetro Prosperidad (Línea 4)\nMetro Cruz del Rayo (Línea 9)\n\n\n\n\nCoste de la formación:\n\n\n\n\nLa formación está financiada por la Fundación Grupo Develop.\nLos gastos de desplazamiento corren a cargo de cada participante.\nPlazas limitadas.\n\n\n\n\n  \n\n\n\nPara más información puedes ponerte en contacto con nosotros a través de: \n\n\n\n\n\n\n\n\nj.antolin@grupodevelop.com (José Luis Antolín) \n653 941 439\n  \n  \n\n  \n\n\n\n\n\n\n\n\n\n\n \n \n \n \n \n \n \n \n \n \n  \n He leído y acepto los términos y condiciones de privacidad \n \n×\n 
URL:https://grupodevelop.com/eventos/formacion-homologacion-de-evaluadores-as/
LOCATION:Calle Pechuan\, Calle Pechuán\, 14 local\, 6\, Madrid\, Madrid\, 28002\, España
CATEGORIES:Formación,Gestión de Calidad
ATTACH;FMTTYPE=image/png:https://grupodevelop.com/wp-content/uploads/2022/07/Homologacion-de-evaluadores.png
END:VEVENT
END:VCALENDAR