BEGIN:VCALENDAR
VERSION:2.0
PRODID:-//Grupo Develop - ECPv6.0.4//NONSGML v1.0//EN
CALSCALE:GREGORIAN
METHOD:PUBLISH
X-ORIGINAL-URL:https://grupodevelop.com
X-WR-CALDESC:Eventos para Grupo Develop
REFRESH-INTERVAL;VALUE=DURATION:PT1H
X-Robots-Tag:noindex
X-PUBLISHED-TTL:PT1H
BEGIN:VTIMEZONE
TZID:America/Port_of_Spain
BEGIN:STANDARD
TZOFFSETFROM:-0400
TZOFFSETTO:-0400
TZNAME:AST
DTSTART:20220101T000000
END:STANDARD
END:VTIMEZONE
BEGIN:VEVENT
DTSTART;VALUE=DATE:20221107
DTEND;VALUE=DATE:20221122
DTSTAMP:20260423T190603
CREATED:20221004T112816Z
LAST-MODIFIED:20221102T155707Z
UID:4108-1667779200-1669075199@grupodevelop.com
SUMMARY:Cómo implantar un Certificado de Calidad. Planificación estratégica para organizar un servicio social de calidad
DESCRIPTION:Este curso tiene como objetivo conocer la metodología para implantar un Certificado de Calidad y definir un plan estratégico y los receptivos planes operativos vinculados en una Organización Social.\nPersonas destinatarias \nEste curso está especialmente recomendado para las Organizaciones que van a certificarse por primera vez o renovar el Certificado de Calidad Excelencia a la Gestión y al Compromiso Social en el nivel 1 y/o 2 Estrellas o superior y precisan formación en planificación estratégica. \nTemario del Curso\nConsulta el temario completo en el Programa en PDF. \n\n\nObjetivos del Curso\n\nDotar a las personas participantes de conocimientos generales sobre aspectos básicos relacionados con la consecución de un certificado de calidad.\nAnalizar y conocer el contenido y el proceso de trabajo para implantar un Plan de Calidad y certificarlo a partir del Esquema de Reconocimiento a la Gestión y al Compromiso Social de la Fundación Grupo Develop (Modelo certificado por Bureau Veritas).\nDesarrollar habilidades para identificar los puntos fuertes y oportunidades de mejora de la Organización.\nAdquirir las habilidades necesarias para realizar e implantar planes de mejora.\nAprender a planificar utilizando lo Lógica REDER y/o el CICLO PDCA.\nSensibilizar a los profesionales sobre la necesidad de planificar la estrategia de la Organización.\nObtener los conocimientos teóricos básicos sobre la planificación estratégica.\nConocer y aprender la metodología para iniciar el proceso de planificación estratégica.\nConocer herramientas prácticas para elaborar el plan estratégico\n\nFechas de impartición y horario:\nLunes 7\, lunes 14 y lunes 21 de noviembre de 2022. \nDe 10:00 a 12:00 y de 12:20 a 14:20 los 3 días. \nPrecio e inscripciones:\nPrecio del Curso: 156€ por persona \nEl curso se puede bonificar a través de la Fundación Estatal para la Formación en el Empleo (FUNDAE). En el caso de querer que Grupo Develop realice la gestión administrativa de la bonificación\, el precio se incrementa en 15\,60€ por persona\, siendo el total de 171\,60€. \nPlazo de Inscripción:\n\nMiércoles 02 de noviembre aquellas personas que quieran bonificar el curso con los créditos formativos de Fundae.\nViernes 04 de noviembre para las personas que no se vayan an bonificar.\n\n\n\n\n\n  \nEl taller se imparte en aula virtual. Se facilitará un enlace para la conexión a todas las personas participantes.  \nPara más información puedes ponerte en contacto con nosotros a través de:\nj.antolin@grupodevelop.com (José Luis Antolín)\, teléfono: 653941439\nn.rodriguez@grupodevelop.com (Nuria Rodríguez)\, teléfono: 639201564\n\n\n\n\n  \nOrganiza: \n \n  \n  \n\n\n\n\n  \n 
URL:https://grupodevelop.com/eventos/como-implantar-un-certificado-de-calidad-planificacion-estrategica-para-organizar-un-servicio-social-de-calidad/
LOCATION:Aula Virtual
CATEGORIES:Formación,Gestión de Calidad,Gestión en las Organizaciones Sociales
ATTACH;FMTTYPE=image/png:https://grupodevelop.com/wp-content/uploads/2022/10/Curso-Planificacion-estrategica.png
END:VEVENT
END:VCALENDAR