BEGIN:VCALENDAR
VERSION:2.0
PRODID:-//Grupo Develop - ECPv6.0.4//NONSGML v1.0//EN
CALSCALE:GREGORIAN
METHOD:PUBLISH
X-WR-CALNAME:Grupo Develop
X-ORIGINAL-URL:https://grupodevelop.com
X-WR-CALDESC:Eventos para Grupo Develop
REFRESH-INTERVAL;VALUE=DURATION:PT1H
X-Robots-Tag:noindex
X-PUBLISHED-TTL:PT1H
BEGIN:VTIMEZONE
TZID:America/Port_of_Spain
BEGIN:STANDARD
TZOFFSETFROM:-0400
TZOFFSETTO:-0400
TZNAME:AST
DTSTART:20220101T000000
END:STANDARD
END:VTIMEZONE
BEGIN:VEVENT
DTSTART;VALUE=DATE:20220606
DTEND;VALUE=DATE:20220609
DTSTAMP:20260424T013329
CREATED:20220406T085138Z
LAST-MODIFIED:20220421T121628Z
UID:3885-1654473600-1654732799@grupodevelop.com
SUMMARY:¿Cómo conseguir un certificado de calidad en una organización social?
DESCRIPTION:Este curso tiene como objetivo conocer la metodología para implantar y obtener el Certificado de Calidad Reconocimiento a la Gestión y al Compromiso Social de la FGD y dotar a las personas participantes de conocimientos suficientes y herramientas de apoyo para dinamizar la mejora en la gestión e implantar la metodología de trabajo de Planes de Mejora.\nPersonas destinatarias \nEl curso está dirigido a cualquier organización social que quiera conocer la metodología para implantar el Certificado de Calidad Reconocimiento a la Gestión y al Compromiso Social y/o conseguir el certificado de calidad oficial. \nTemario del Curso\nConsulta el temario completo en el Programa en PDF. \n\n\n\n\nLa gestión de las organizaciones\nAspectos básicos en la gestión de las organizaciones\nLos sistemas de calidad: Instrumentos para gestionar y transformar las organizaciones\nEl esquema de reconocimiento a la gestión y al compromiso social de la FGD: un modelo de gestión global para las organizaciones sociales\nMetodología para conseguir un certificado de calidad enmarcado en el esquema de Reconocimiento a la Gestión y al Compromiso Social de la FGD\nLa obtención del certificado de calidad\nLa acreditación del Certificado de Calidad ante los organismos públicos y privados\nEl comité de calidad\nLos grupos de mejora para fomentar la creatividad y la innovación\nPropuesta de mejora\, sugerencias y quejas\nEl sistema de indicadores: formulación\, medición\, seguimiento y análisis de los indicadores\nLa medición de la satisfacción de los grupos de interés\nLa revisión del sistema de gestión de la organización\nA modo de conclusión\n\n\n\n\n\n\nFechas de impartición y horario:\n06/06/2022 (lunes)\, 07/06/2022 (martes) y 08/06/2022 (miércoles) \nDe 10:30 a 12:30 y de 13:00 a 15:00 los 3 días. \n\nPrecio e inscripciones:\nPrecio del Curso: 156€ por persona \nEl curso se puede bonificar a través de la Fundación Estatal para la Formación en el Empleo (FUNDAE). En el caso de querer que Grupo Develop realice la gestión administrativa de la bonificación\, el precio se incrementa en 15\,60€ por persona\, siendo el total de 171\,60€. \nPlazo de Inscripción:\n\nMartes 31 de mayo aquellas personas que quieran bonificar el curso con los créditos de Fundae.\nJueves 02 de junio para las personas que no lo quieran bonificar.\n\n\n\n\n\n  \nEl taller se imparte en aula virtual. Se facilitará un enlace para la conexión a todas las personas participantes.  \nPara más información puedes ponerte en contacto con nosotros a través de:\n\nj.antolin@grupodevelop.com (José Luis Antolín)\n653 941 439\n\n\n\n\n  \nOrganiza: \n \n  \n  \n  \n  \n\n\n\n\n\n  \n\n\n\n\n\n\n\n\n\n\n   \n   \n   \n   \n   \n   \n   \n   \n   \n   \n   \n  \n  \n He leído y acepto los términos y condiciones de privacidad \n \n× \n  \n 
URL:https://grupodevelop.com/eventos/como-conseguir-un-certificado-de-calidad/
LOCATION:Aula Virtual
CATEGORIES:Formación,Gestión de Calidad,Gestión en las Organizaciones Sociales
ATTACH;FMTTYPE=image/png:https://grupodevelop.com/wp-content/uploads/2022/04/Como-conseguir-un-certificado-de-calidad-1.png
ORGANIZER;CN="Grupo%20Develop":MAILTO:info@grupodevelop.com
END:VEVENT
END:VCALENDAR