BEGIN:VCALENDAR
VERSION:2.0
PRODID:-//Grupo Develop - ECPv6.0.4//NONSGML v1.0//EN
CALSCALE:GREGORIAN
METHOD:PUBLISH
X-WR-CALNAME:Grupo Develop
X-ORIGINAL-URL:https://grupodevelop.com
X-WR-CALDESC:Eventos para Grupo Develop
REFRESH-INTERVAL;VALUE=DURATION:PT1H
X-Robots-Tag:noindex
X-PUBLISHED-TTL:PT1H
BEGIN:VTIMEZONE
TZID:America/Port_of_Spain
BEGIN:STANDARD
TZOFFSETFROM:-0400
TZOFFSETTO:-0400
TZNAME:AST
DTSTART:20250101T000000
END:STANDARD
TZID:UTC
BEGIN:STANDARD
TZOFFSETFROM:+0000
TZOFFSETTO:+0000
TZNAME:UTC
DTSTART:20260101T000000
END:STANDARD
END:VTIMEZONE
BEGIN:VEVENT
DTSTART;TZID=America/Port_of_Spain:20250901T000000
DTEND;TZID=America/Port_of_Spain:20260531T235900
DTSTAMP:20260422T023611
CREATED:20250909T084907Z
LAST-MODIFIED:20250909T084907Z
UID:4653-1756684800-1780271940@grupodevelop.com
SUMMARY:Programa Gestiona-T: Asesoramiento para implantar un certificado de calidad
DESCRIPTION:La Fundación Grupo Develop\, con financiación del Plan Nacional sobre Drogas\, lanza una nueva edición del Programa Gestiona-t (como viene haciendo desde 2013)\, dirigido a 27 ONG y entidades sin ánimo de lucro que trabajan en el ámbito de las adicciones (con o sin sustancias)\, en el tratamiento y/o prevención y otras patologías asociadas (Salud Mental\, VIH-SIDA\, exclusión social\, etc.). Esta es la convocatoria para el periodo de ejecución 2025-2026. \nEn la presente edición\, se incorporan como principal novedad tres seminarios prácticos\, donde se trabajarán aspectos abordados en los talleres de forma más teórica \nDuración del programa\nLa duración del programa es desde el 01 de septiembre de 2025 al 31 de mayo de 2026. \nPresentación de solicitudes\nDesde el 01 de septiembre al 25 de septiembre de 2025 (ambos inclusive). \nDescarga aquí las Bases del Programa \nPara participar es necesario cumplimentar el formulario de solicitud de participación\, que se encuentra en el link que figura a continuación\, en el Código QR y en la página Web de la Fundación Grupo Develop: grupodevelop.com \nPara ampliar información o aclarar tus dudas sobre esta convocatoria\, envía un correo a gestiona-t@grupodevelop.com o puedes ponerte en contacto con nosotros llamando a 653 941 439 (José Luis Antolín). \n \n 
URL:https://grupodevelop.com/eventos/programa-gestiona-t-asesoramiento-para-implantar-un-certificado-de-calidad-2/
LOCATION:Teleformación\, España
CATEGORIES:Formación,Plan de Calidad
ATTACH;FMTTYPE=image/png:https://grupodevelop.com/wp-content/uploads/2025/09/GESTIONAT-2526_INSCRIPCION-PRG.png
END:VEVENT
BEGIN:VEVENT
DTSTART;VALUE=DATE:20260210
DTEND;VALUE=DATE:20260212
DTSTAMP:20260422T023611
CREATED:20260128T150828Z
LAST-MODIFIED:20260128T150933Z
UID:4739-1770681600-1770854399@grupodevelop.com
SUMMARY:Seminario 3 Gestiona-T 25-26: El Mapa de Procesos. Ejercicio Práctico.
DESCRIPTION:Seminario 3 Gestiona-T 25-26: El Mapa de Procesos. Ejercicio práctico. \nEste seminario tiene como objetivo profundizar en la aplicación práctica del Mapa de Procesos como herramienta clave para la gestión y mejora continua de las organizaciones\, dotando a las entidades participantes de los conocimientos\, habilidades y recursos necesarios para su correcta definición\, análisis y utilización. \nA través de un enfoque eminentemente práctico\, las personas participantes trabajarán en la identificación\, clasificación y representación de los procesos de su organización\, así como en la vinculación del Mapa de Procesos con los Planes de Mejora y los sistemas de gestión de la calidad \nEl seminario está dirigido a personas trabajadoras y/o voluntarias de Organizaciones Sin Ánimo de Lucro que trabajen en Adicciones con o sin sustancias\, en prevención y asistencia y a Organizaciones que aborden problemas y/o patologías asociadas: salud mental; VIH-SIDA; reclusos y exreclusos; etc. \n\nModalidad:\nEl seminario se imparte en aula virtual. Se facilitará un enlace a la Plataforma Teams para la conexión a todas las persona participantes. \nFechas de Impartición:\n\nGrupo A: 10 de febrero de 2026. \nGrupo B: 11 de febrero de 2026. \nHorario: \nDe 10:00h a 12:00h los dos días y los dos grupos (horario peninsular). \nPara ampliar más información: \nEmail: j.antolin@grupodevelop.com (José Luis Antolín) \nTeléfono: 653 941 439 \nPlazo máximo de Inscripción:  \nDesde el miércoles 28 de enero hasta el lunes 09 de febrero\, ambos inclusive. \nFormaliza tu inscripción Aquí
URL:https://grupodevelop.com/eventos/seminario-3-gestiona-t-25-26-mapa-de-procesos-ejercicio-practico/
LOCATION:Aula Virtual
CATEGORIES:Formación
ATTACH;FMTTYPE=image/png:https://grupodevelop.com/wp-content/uploads/2026/01/GT2526_DIFUSION-S3-RRSS.png
END:VEVENT
END:VCALENDAR