BEGIN:VCALENDAR
VERSION:2.0
PRODID:-//Grupo Develop - ECPv6.0.4//NONSGML v1.0//EN
CALSCALE:GREGORIAN
METHOD:PUBLISH
X-WR-CALNAME:Grupo Develop
X-ORIGINAL-URL:https://grupodevelop.com
X-WR-CALDESC:Eventos para Grupo Develop
REFRESH-INTERVAL;VALUE=DURATION:PT1H
X-Robots-Tag:noindex
X-PUBLISHED-TTL:PT1H
BEGIN:VTIMEZONE
TZID:UTC
BEGIN:STANDARD
TZOFFSETFROM:+0000
TZOFFSETTO:+0000
TZNAME:UTC
DTSTART:20250101T000000
END:STANDARD
END:VTIMEZONE
BEGIN:VEVENT
DTSTART;VALUE=DATE:20250324
DTEND;VALUE=DATE:20250403
DTSTAMP:20260420T231857
CREATED:20250317T133721Z
LAST-MODIFIED:20250317T133721Z
UID:4589-1742774400-1743638399@grupodevelop.com
SUMMARY:Taller 3 Gestiona-T 24-25: Planificación estratégica para organizar un servicio social de calidad
DESCRIPTION:Taller 3 Gestiona-T 24-25: Planificación estratégica para organizar un servicio social de calidad. \nEste taller tiene como objetivo sensibilizar a las personas participantes sobre la necesidad de planificar la estrategia de la Organización\, obtener los conocimientos teóricos básicos sobre la planificación estratégica\, conocer y aprender la metodología para iniciar el proceso de planificación estratégica y conocer herramientas prácticas para elaborar el plan estratégico. \nEl taller está dirigido a personas trabajadoras y/o voluntarias de Organizaciones Sin Ánimo de Lucro que trabajen en Adicciones con o sin sustancias\, en prevención y asistencia y a Organizaciones que aborden problemas y/o patologías asociadas: salud mental; VIH-SIDA; reclusos y exreclusos; etc. \nDescarga el Programa Completo.\n\n\nModalidad:\nEl taller se imparte en aula virtual. Se facilitará un enlace a la Plataforma Teams para la conexión a todas las persona participantes. \nFechas de Impartición:\n\nGrupo A: 24 (lunes) y 31 (lunes) de marzo de 2025. \nGrupo B: 25 (martes) de marzo y 01 (martes) de abril de 2025. \nGrupo C: 26 (miércoles) de marzo y 02 (miércoles) de abril de 2025. \nHorario: \nDe 10:00 a 11:30 y de 11:45 a 13:15 los dos días y los tres grupos (horario peninsular). \n  \nPara ampliar más información: \nEmail: j.antolin@grupodevelop.com (José Luis Antolín) \nTeléfono: 653 941 439 \nPlazo máximo de Inscripción:  \nGrupo A: Jueves\, 20 de marzo de 2025. \nGrupo B: Viernes\,  21 de marzo de 2025. \nGrupo C: Lunes\, 24 de marzo de 2025. \nFormaliza tu inscripción Aquí
URL:https://grupodevelop.com/eventos/taller-3-gestiona-t-24-25-planificacion-estrategica/
LOCATION:Aula Virtual
CATEGORIES:Formación
ATTACH;FMTTYPE=image/png:https://grupodevelop.com/wp-content/uploads/2025/03/RRSS_GestionaT_T3.png
END:VEVENT
END:VCALENDAR