BEGIN:VCALENDAR
VERSION:2.0
PRODID:-//Grupo Develop - ECPv6.0.4//NONSGML v1.0//EN
CALSCALE:GREGORIAN
METHOD:PUBLISH
X-WR-CALNAME:Grupo Develop
X-ORIGINAL-URL:https://grupodevelop.com
X-WR-CALDESC:Eventos para Grupo Develop
REFRESH-INTERVAL;VALUE=DURATION:PT1H
X-Robots-Tag:noindex
X-PUBLISHED-TTL:PT1H
BEGIN:VTIMEZONE
TZID:UTC
BEGIN:STANDARD
TZOFFSETFROM:+0000
TZOFFSETTO:+0000
TZNAME:UTC
DTSTART:20250101T000000
END:STANDARD
END:VTIMEZONE
BEGIN:VEVENT
DTSTART;VALUE=DATE:20250120
DTEND;VALUE=DATE:20250130
DTSTAMP:20260421T012233
CREATED:20241226T154210Z
LAST-MODIFIED:20250113T112926Z
UID:4510-1737331200-1738195199@grupodevelop.com
SUMMARY:Taller 2 Gestiona-T 24-25: La gestión por procesos en una organización social.
DESCRIPTION:Taller 2 Gestiona-T 24-25: La gestión por procesos en una organización social. \nEste taller tiene como objetivo dotar a las Organizaciones Sociales participantes de los conocimientos\, habilidades y herramientas suficientes para definir los documentos básicos para desarrollar sus sistema por procesos. \nEl taller está dirigido a personas trabajadoras y/o voluntarias de Organizaciones Sin Ánimo de Lucro que trabajen en Adicciones con o sin sustancias\, en prevención y asistencia y a Organizaciones que aborden problemas y/o patologías asociadas: salud mental; VIH-SIDA; reclusos y exreclusos; etc. \nDescarga el Programa Completo.\n\n\nModalidad:\nEl taller se imparte en aula virtual. Se facilitará un enlace a la Plataforma Teams para la conexión a todas las persona participantes. \nFechas de Impartición:\n\nGrupo A: 20 (lunes) y 27 (lunes) de enero de 2025. \nGrupo B: 21 (martes) y 28 (martes) de enero de 2025. \nGrupo C: 22 (miércoles) y 29 (miércoles) de enero de 2025. \nHorario: \nDe 10:00 a 11:30 y de 11:45 a 13:15 los dos días y los dos grupos (horario peninsular). \n  \nPara ampliar más información: \nEmail: j.antolin@grupodevelop.com (José Luis Antolín) \nTeléfono: 653 941 439 \nPlazo de Inscripción:  \nGrupo A: Lunes 13 de enero de 2025. \nGrupo B: Martes 14 de enero de 2025. \nGrupo C: Miércoles 15 de enero de 2025. \nFormaliza tu inscripción Aquí
URL:https://grupodevelop.com/eventos/taller-2-gestion-por-procesos-en-una-entidad-social/
LOCATION:Aula Virtual
CATEGORIES:Formación
ATTACH;FMTTYPE=image/png:https://grupodevelop.com/wp-content/uploads/2024/12/GT2425_TALLER2.png
END:VEVENT
END:VCALENDAR