BEGIN:VCALENDAR
VERSION:2.0
PRODID:-//Grupo Develop - ECPv6.0.4//NONSGML v1.0//EN
CALSCALE:GREGORIAN
METHOD:PUBLISH
X-ORIGINAL-URL:https://grupodevelop.com
X-WR-CALDESC:Eventos para Grupo Develop
REFRESH-INTERVAL;VALUE=DURATION:PT1H
X-Robots-Tag:noindex
X-PUBLISHED-TTL:PT1H
BEGIN:VTIMEZONE
TZID:Europe/Madrid
BEGIN:DAYLIGHT
TZOFFSETFROM:+0100
TZOFFSETTO:+0200
TZNAME:CEST
DTSTART:20210328T010000
END:DAYLIGHT
BEGIN:STANDARD
TZOFFSETFROM:+0200
TZOFFSETTO:+0100
TZNAME:CET
DTSTART:20211031T010000
END:STANDARD
END:VTIMEZONE
BEGIN:VEVENT
DTSTART;TZID=Europe/Madrid:20210217T100000
DTEND;TZID=Europe/Madrid:20210224T133000
DTSTAMP:20260426T004238
CREATED:20210126T164928Z
LAST-MODIFIED:20210219T075234Z
UID:3210-1613556000-1614173400@grupodevelop.com
SUMMARY:Curso Modelo EFQM 2020 | Febrero 2021
DESCRIPTION:Hoy más que nunca\, la organización tiene que abordar en paralelo dos retos: la gestión del día a día y la gestión eficaz del cambio. Gestionar con éxito ambos retos equilibradamente contribuirá a que esté preparada para afrontar el futuro. \nEl nuevo Modelo EFQM se adapta a cualquiera de los tipos de empresas que existen\, ya que puede diversificarse independientemente del tamaño\, sector\, complejidad\, realidad y geografía de estas. Es por ello por lo que es un modelo de gestión que favorece la innovación\, transformación y sostenibilidad de todo tipo de organizaciones. \n  \nCURSO MODELO EFQM 2020 \nCurso de 6 horas de duración divididas entre los días 17 y 24 de febrero\, en horario de 10:00h. a 13:30h.\, con 30 minutos de descanso los dos días. \n\n\n\n\nContenidos del curso: \n\nLa gestión de las Organizaciones.\nContexto en el que nace el Modelo EFQM 2020.\nFundamentos del Modelo EFQM.\nEstructura del Modelo EFQM 2020.\nLas 5 claves del Modelo EFQM 2020.\nOtros aspectos esenciales del Modelo EFQM 2020.\nLa lógica REDER en el Modelo EFQM 2020.\nEl proceso de implantación y recertificación del Modelo EFQM 2020.\n\nDescarga aquí el Programa Completo.\nPrecio e inscripciones\nPrecio del Curso: 150€.\nPosibilidad de bonificación de 78 euros a través de la Fundación Estatal para la Formación en el Empleo (FUNDAE). Nuestra entidad puede realizar la gestión de tu bonificación por un único coste de 7\,80 euros por persona. \nPlazo de Inscripción: \n\nHasta el 9 de febrero para aquellas personas que deseen bonificar el curso.\nHasta el 15 de febrero para aquellas personas que no deseen beneficiarse de la bonificación.\n\nPara más información: Tel.: 639 201 564 \n 
URL:https://grupodevelop.com/eventos/curso-modelo-efqm-2020-febrero-2021/
LOCATION:Teleformación\, España
CATEGORIES:Formación
ATTACH;FMTTYPE=image/jpeg:https://grupodevelop.com/wp-content/uploads/2020/01/grupodevelop.jpg
ORGANIZER;CN="Grupo%20Develop":MAILTO:info@grupodevelop.com
END:VEVENT
END:VCALENDAR